BEGIN:VCALENDAR
PRODID:brasil.gov.agenda
VERSION:1.0
BEGIN:VEVENT
DTSTART:20220411T140000Z
DTEND:20220411T180000Z
DCREATED:20220429T113309Z
UID:Compromisso-e181d9558f0344cb813617449e561ae0
SEQUENCE:0
LAST-MODIFIED:20220429T113309Z
SUMMARY:Despachos Internos
LOCATION:Reitoria
PRIORITY:3
TRANSP:0
END:VEVENT
END:VCALENDAR
