BEGIN:VCALENDAR
PRODID:brasil.gov.agenda
VERSION:1.0
BEGIN:VEVENT
DTSTART:20220411T100000Z
DTEND:20220411T110000Z
DCREATED:20220429T113230Z
UID:Compromisso-0abbb632eb094944bff7248265f9cdb9
SEQUENCE:0
LAST-MODIFIED:20220429T113230Z
SUMMARY:Colação de Grau Posterior
LOCATION:Reitoria
PRIORITY:3
TRANSP:0
END:VEVENT
END:VCALENDAR
