BEGIN:VCALENDAR
PRODID:brasil.gov.agenda
VERSION:1.0
BEGIN:VEVENT
DTSTART:20220411T090000Z
DTEND:20220411T100000Z
DCREATED:20220429T113205Z
UID:Compromisso-b85505ea3e2444aca5a3023e3543663c
SEQUENCE:0
LAST-MODIFIED:20220429T113205Z
SUMMARY:Colação de Grau Antecipada
LOCATION:Reitoria
PRIORITY:3
TRANSP:0
END:VEVENT
END:VCALENDAR
