BEGIN:VCALENDAR
PRODID:brasil.gov.agenda
VERSION:1.0
BEGIN:VEVENT
DTSTART:20220408T080000Z
DTEND:20220408T120000Z
DCREATED:20220429T113047Z
UID:Compromisso-e936a9338dba4c3daf327fdfcb51f434
SEQUENCE:0
LAST-MODIFIED:20220429T113047Z
SUMMARY:Despachos Internos
LOCATION:Reitoria
PRIORITY:3
TRANSP:0
END:VEVENT
END:VCALENDAR
