BEGIN:VCALENDAR
PRODID:brasil.gov.agenda
VERSION:1.0
BEGIN:VEVENT
DTSTART:20220407T080000Z
DTEND:20220407T120000Z
DCREATED:20220407T123331Z
UID:Compromisso-ab24c1feaef6418fb621a7b4999c7718
SEQUENCE:0
LAST-MODIFIED:20220407T123331Z
SUMMARY:Despachos Internos
LOCATION:Reitoria
PRIORITY:3
TRANSP:0
END:VEVENT
END:VCALENDAR
