BEGIN:VCALENDAR
PRODID:brasil.gov.agenda
VERSION:1.0
BEGIN:VEVENT
DTSTART:20220407T140000Z
DTEND:20220407T180000Z
DCREATED:20220407T123348Z
UID:Compromisso-33eac67bb04d45a68dd3a94062ef99de
SEQUENCE:0
LAST-MODIFIED:20220407T123348Z
SUMMARY:Despachos Internos
LOCATION:Reitoria
PRIORITY:3
TRANSP:0
END:VEVENT
END:VCALENDAR
