BEGIN:VCALENDAR
PRODID:brasil.gov.agenda
VERSION:1.0
BEGIN:VEVENT
DTSTART:20220406T080000Z
DTEND:20220406T120000Z
DCREATED:20220407T123225Z
UID:Compromisso-877cac16a3744ae18a199e9771bbf6ea
SEQUENCE:0
LAST-MODIFIED:20220407T123225Z
SUMMARY:Despachos Internos
LOCATION:Reitoria
PRIORITY:3
TRANSP:0
END:VEVENT
END:VCALENDAR
