BEGIN:VCALENDAR
PRODID:brasil.gov.agenda
VERSION:1.0
BEGIN:VEVENT
DTSTART:20220406T140000Z
DTEND:20220406T180000Z
DCREATED:20220407T123243Z
UID:Compromisso-6f8dd5a7c60a4b50b482f317c9481d4a
SEQUENCE:0
LAST-MODIFIED:20220407T123243Z
SUMMARY:Despachos Internos
LOCATION:Reitoria
PRIORITY:3
TRANSP:0
END:VEVENT
END:VCALENDAR
