BEGIN:VCALENDAR
PRODID:brasil.gov.agenda
VERSION:1.0
BEGIN:VEVENT
DTSTART:20220404T080000Z
DTEND:20220404T120000Z
DCREATED:20220407T122843Z
UID:Compromisso-36777ae7790f413f93fc5ac28f3a3501
SEQUENCE:0
LAST-MODIFIED:20220407T122843Z
SUMMARY:Despachos Internos
LOCATION:Reitoria
PRIORITY:3
TRANSP:0
END:VEVENT
END:VCALENDAR
