BEGIN:VCALENDAR
PRODID:brasil.gov.agenda
VERSION:1.0
BEGIN:VEVENT
DTSTART:20220404T150000Z
DTEND:20220404T153000Z
DCREATED:20220407T123010Z
UID:Compromisso-3059575ac8194cdfb65855a9a2dc4236
SEQUENCE:0
LAST-MODIFIED:20220407T123010Z
SUMMARY:Colação de Grau Posterior
LOCATION:Reitoria
PRIORITY:3
TRANSP:0
END:VEVENT
END:VCALENDAR
