BEGIN:VCALENDAR
PRODID:brasil.gov.agenda
VERSION:1.0
BEGIN:VEVENT
DTSTART:20220404T143000Z
DTEND:20220404T150000Z
DCREATED:20220407T122940Z
UID:Compromisso-74a222c39a7e40d69dd0f23316a3163d
SEQUENCE:0
LAST-MODIFIED:20220407T122940Z
SUMMARY:Colação de Grau Antecipada
LOCATION:Reitoria
PRIORITY:3
TRANSP:0
END:VEVENT
END:VCALENDAR
