BEGIN:VCALENDAR
PRODID:brasil.gov.agenda
VERSION:1.0
BEGIN:VEVENT
DTSTART:20220401T080000Z
DTEND:20220401T120000Z
DCREATED:20220407T122657Z
UID:Compromisso-ef059fc98bb64969bb9206f8919ad21e
SEQUENCE:0
LAST-MODIFIED:20220407T122657Z
SUMMARY:Despachos Internos
LOCATION:Reitoria
PRIORITY:3
TRANSP:0
END:VEVENT
END:VCALENDAR
