BEGIN:VCALENDAR
PRODID:brasil.gov.agenda
VERSION:1.0
BEGIN:VEVENT
DTSTART:20220401T140000Z
DTEND:20220401T180000Z
DCREATED:20220407T122715Z
UID:Compromisso-77a6ad3fd6d04ef7880cacf8103eb9e2
SEQUENCE:0
LAST-MODIFIED:20220407T122715Z
SUMMARY:Despachos Internos
LOCATION:Reitoria
PRIORITY:3
TRANSP:0
END:VEVENT
END:VCALENDAR
