BEGIN:VCALENDAR
PRODID:brasil.gov.agenda
VERSION:1.0
BEGIN:VEVENT
DTSTART:20220331T140000Z
DTEND:20220331T180000Z
DCREATED:20220407T122559Z
UID:Compromisso-37278acda1994940ae49ef84410af016
SEQUENCE:0
LAST-MODIFIED:20220407T122559Z
SUMMARY:Despachos Internos
LOCATION:Reitoria
PRIORITY:3
TRANSP:0
END:VEVENT
END:VCALENDAR
