BEGIN:VCALENDAR
PRODID:brasil.gov.agenda
VERSION:1.0
BEGIN:VEVENT
DTSTART:20220331T093000Z
DTEND:20220331T103000Z
DCREATED:20220407T122456Z
UID:Compromisso-c811d410fdc445bdb888ba00a528f35b
SEQUENCE:0
LAST-MODIFIED:20220407T122456Z
SUMMARY:Colação de Grau Posterior
LOCATION:Reitoria
PRIORITY:3
TRANSP:0
END:VEVENT
END:VCALENDAR
