BEGIN:VCALENDAR
PRODID:brasil.gov.agenda
VERSION:1.0
BEGIN:VEVENT
DTSTART:20220331T083000Z
DTEND:20220331T093000Z
DCREATED:20220407T122358Z
UID:Compromisso-a913c46822774e0ea65474e91077c577
SEQUENCE:0
LAST-MODIFIED:20220407T122358Z
SUMMARY:Colação de Grau Antecipada
LOCATION:Reitoria
PRIORITY:3
TRANSP:0
END:VEVENT
END:VCALENDAR
