BEGIN:VCALENDAR
PRODID:brasil.gov.agenda
VERSION:1.0
BEGIN:VEVENT
DTSTART:20220330T083000Z
DTEND:20220330T120000Z
DCREATED:20220407T122222Z
UID:Compromisso-92f66bddd75d4f1db795c35354fdfd71
SEQUENCE:0
LAST-MODIFIED:20220407T122222Z
SUMMARY:Reunião Vice-Reitor e Secretária de Processos Administrativos
LOCATION:Reitoria
PRIORITY:3
TRANSP:0
END:VEVENT
END:VCALENDAR
