BEGIN:VCALENDAR
PRODID:brasil.gov.agenda
VERSION:1.0
BEGIN:VEVENT
DTSTART:20220330T140000Z
DTEND:20220330T180000Z
DCREATED:20220407T122240Z
UID:Compromisso-3df359478a8847978fc44b50991dcd9b
SEQUENCE:0
LAST-MODIFIED:20220407T122240Z
SUMMARY:Despachos Internos
LOCATION:Reitoria
PRIORITY:3
TRANSP:0
END:VEVENT
END:VCALENDAR
