BEGIN:VCALENDAR
PRODID:brasil.gov.agenda
VERSION:1.0
BEGIN:VEVENT
DTSTART:20220329T080000Z
DTEND:20220329T120000Z
DCREATED:20220330T134922Z
UID:Compromisso-5f07814e1e7b4e3c989e532a0bb35c5e
SEQUENCE:0
LAST-MODIFIED:20220330T134922Z
SUMMARY:Despachos Internos
LOCATION:Reitoria
PRIORITY:3
TRANSP:0
END:VEVENT
END:VCALENDAR
