BEGIN:VCALENDAR
PRODID:brasil.gov.agenda
VERSION:1.0
BEGIN:VEVENT
DTSTART:20220328T143000Z
DTEND:20220328T180000Z
DCREATED:20220330T134825Z
UID:Compromisso-c5cc3fa5cc2d4347aeb3233995c82d01
SEQUENCE:0
LAST-MODIFIED:20220330T134825Z
SUMMARY:49ª Sessão em Caráter Extraordinário do CONSEPE
LOCATION:Reitoria
PRIORITY:3
TRANSP:0
END:VEVENT
END:VCALENDAR
