BEGIN:VCALENDAR
PRODID:brasil.gov.agenda
VERSION:1.0
BEGIN:VEVENT
DTSTART:20220325T140000Z
DTEND:20220325T180000Z
DCREATED:20220330T134714Z
UID:Compromisso-48742d4217c148829f4b04b6b231a8e3
SEQUENCE:0
LAST-MODIFIED:20220330T134714Z
SUMMARY:Despachos Internos
LOCATION:Reitoria
PRIORITY:3
TRANSP:0
END:VEVENT
END:VCALENDAR
