BEGIN:VCALENDAR
PRODID:brasil.gov.agenda
VERSION:1.0
BEGIN:VEVENT
DTSTART:20220324T140000Z
DTEND:20220324T180000Z
DCREATED:20220330T134518Z
UID:Compromisso-34f78bbac94f43c6bc11e66c3d4aeeb3
SEQUENCE:0
LAST-MODIFIED:20220330T134518Z
SUMMARY:Despachos Internos
LOCATION:Reitoria
PRIORITY:3
TRANSP:0
END:VEVENT
END:VCALENDAR
