BEGIN:VCALENDAR
PRODID:brasil.gov.agenda
VERSION:1.0
BEGIN:VEVENT
DTSTART:20220324T080000Z
DTEND:20220324T120000Z
DCREATED:20220330T134502Z
UID:Compromisso-b94dd8f246684221b0cde98167552d31
SEQUENCE:0
LAST-MODIFIED:20220330T134502Z
SUMMARY:179ª reunião sendo a 48ª sessão em caráter extraordinário do CONSEPE
LOCATION:Reitoria
PRIORITY:3
TRANSP:0
END:VEVENT
END:VCALENDAR
