BEGIN:VCALENDAR
PRODID:brasil.gov.agenda
VERSION:1.0
BEGIN:VEVENT
DTSTART:20220323T140000Z
DTEND:20220323T180000Z
DCREATED:20220330T134341Z
UID:Compromisso-56d56ee55f3b43e69f327a63d1e8cdb0
SEQUENCE:0
LAST-MODIFIED:20220330T134341Z
SUMMARY:Despachos Internos
LOCATION:Reitoria
PRIORITY:3
TRANSP:0
END:VEVENT
END:VCALENDAR
