BEGIN:VCALENDAR
PRODID:brasil.gov.agenda
VERSION:1.0
BEGIN:VEVENT
DTSTART:20220322T103000Z
DTEND:20220322T120000Z
DCREATED:20220330T134145Z
UID:Compromisso-0f2fa7b228cb4280908756e6752e4c1b
SEQUENCE:0
LAST-MODIFIED:20220330T134145Z
SUMMARY:Despachos Internos
LOCATION:Reitoria
PRIORITY:3
TRANSP:0
END:VEVENT
END:VCALENDAR
