BEGIN:VCALENDAR
PRODID:brasil.gov.agenda
VERSION:1.0
BEGIN:VEVENT
DTSTART:20220322T150000Z
DTEND:20220322T180000Z
DCREATED:20220330T134237Z
UID:Compromisso-0f24b1a7ddbd411dbcf5f047458dae3f
SEQUENCE:0
LAST-MODIFIED:20220330T134237Z
SUMMARY:Despachos Internos
LOCATION:Reitoria
PRIORITY:3
TRANSP:0
END:VEVENT
END:VCALENDAR
