BEGIN:VCALENDAR
PRODID:brasil.gov.agenda
VERSION:1.0
BEGIN:VEVENT
DTSTART:20220322T143000Z
DTEND:20220322T150000Z
DCREATED:20220330T134219Z
UID:Compromisso-58b4e78cb6194fc6a390fe87fdd96159
SEQUENCE:0
LAST-MODIFIED:20220330T134219Z
SUMMARY:Colação de Grau Antecipada Fisioterapia
LOCATION:Reitoria
PRIORITY:3
TRANSP:0
END:VEVENT
END:VCALENDAR
