BEGIN:VCALENDAR
PRODID:brasil.gov.agenda
VERSION:1.0
BEGIN:VEVENT
DTSTART:20220321T080000Z
DTEND:20220321T100000Z
DCREATED:20220322T125922Z
UID:Compromisso-26ca654ae2d447bea5695b0f6b852e31
SEQUENCE:0
LAST-MODIFIED:20220322T125922Z
SUMMARY:Reunião Vice-Reitor e Secretária dos Conselhos Superiores
LOCATION:Reitoria
PRIORITY:3
TRANSP:0
END:VEVENT
END:VCALENDAR
