BEGIN:VCALENDAR
PRODID:brasil.gov.agenda
VERSION:1.0
BEGIN:VEVENT
DTSTART:20220318T143000Z
DTEND:20220318T180000Z
DCREATED:20220322T125818Z
UID:Compromisso-9aa9f6a474a44dcdb9a4516a51dcfefe
SEQUENCE:0
LAST-MODIFIED:20220322T125818Z
SUMMARY:Despachos Internos
LOCATION:Reitoria
PRIORITY:3
TRANSP:0
END:VEVENT
END:VCALENDAR
