BEGIN:VCALENDAR
PRODID:brasil.gov.agenda
VERSION:1.0
BEGIN:VEVENT
DTSTART:20220318T140000Z
DTEND:20220318T143000Z
DCREATED:20220322T125759Z
UID:Compromisso-6efc76708199476c9166f33702b7cae9
SEQUENCE:0
LAST-MODIFIED:20220322T125759Z
SUMMARY:Colação de Grau Antecipada
LOCATION:Reitoria
PRIORITY:3
TRANSP:0
END:VEVENT
END:VCALENDAR
