BEGIN:VCALENDAR
PRODID:brasil.gov.agenda
VERSION:1.0
BEGIN:VEVENT
DTSTART:20220317T090000Z
DTEND:20220317T090000Z
DCREATED:20220322T125555Z
UID:Compromisso-931d413f26a2448d9388bef5ca5f7823
SEQUENCE:0
LAST-MODIFIED:20220322T125555Z
SUMMARY:Reunião Vice-Reitor e Prof.ª Cláudia Mara Niquini
DESCRIPTION:Solicitação Administrativa
LOCATION:Reitoria
PRIORITY:3
TRANSP:0
END:VEVENT
END:VCALENDAR
