BEGIN:VCALENDAR
PRODID:brasil.gov.agenda
VERSION:1.0
BEGIN:VEVENT
DTSTART:20220317T140000Z
DTEND:20220317T180000Z
DCREATED:20220322T125636Z
UID:Compromisso-c7305493ed9b4a4982f62f050d15b205
SEQUENCE:0
LAST-MODIFIED:20220322T125636Z
SUMMARY:Despachos Internos
LOCATION:Reitoria
PRIORITY:3
TRANSP:0
END:VEVENT
END:VCALENDAR
