BEGIN:VCALENDAR
PRODID:brasil.gov.agenda
VERSION:1.0
BEGIN:VEVENT
DTSTART:20220316T140000Z
DTEND:20220316T180000Z
DCREATED:20220322T125452Z
UID:Compromisso-26929fa11ed0454fb19ce21b77361159
SEQUENCE:0
LAST-MODIFIED:20220322T125452Z
SUMMARY:Despachos Internos
LOCATION:Reitoria
PRIORITY:3
TRANSP:0
END:VEVENT
END:VCALENDAR
