BEGIN:VCALENDAR
PRODID:brasil.gov.agenda
VERSION:1.0
BEGIN:VEVENT
DTSTART:20220314T140000Z
DTEND:20220314T180000Z
DCREATED:20220314T121916Z
UID:Compromisso-d9e6c5dd3b044f11a9b82fc96e403952
SEQUENCE:0
LAST-MODIFIED:20220314T121916Z
SUMMARY:Despachos Internos
LOCATION:Reitoria
PRIORITY:3
TRANSP:0
END:VEVENT
END:VCALENDAR
