BEGIN:VCALENDAR
PRODID:brasil.gov.agenda
VERSION:1.0
BEGIN:VEVENT
DTSTART:20220310T083000Z
DTEND:20220310T093000Z
DCREATED:20220310T170209Z
UID:Compromisso-ef6495a56d794fb9a7a2428af8ed9bd6
SEQUENCE:0
LAST-MODIFIED:20220310T170209Z
SUMMARY:Reunião Vice-Reitor\, DRI e DGI
DESCRIPTION:Participação da UFVJM no THE World University Ranking 20
 23
LOCATION:Reitoria
PRIORITY:3
TRANSP:0
END:VEVENT
END:VCALENDAR
