BEGIN:VCALENDAR
PRODID:brasil.gov.agenda
VERSION:1.0
BEGIN:VEVENT
DTSTART:20220310T140000Z
DTEND:20220310T180000Z
DCREATED:20220310T170308Z
UID:Compromisso-feeed20627b5481fb570e57566026cce
SEQUENCE:0
LAST-MODIFIED:20220310T170308Z
SUMMARY:Despachos Internos
LOCATION:Reitoria
PRIORITY:3
TRANSP:0
END:VEVENT
END:VCALENDAR
