BEGIN:VCALENDAR
PRODID:brasil.gov.agenda
VERSION:1.0
BEGIN:VEVENT
DTSTART:20220309T080000Z
DTEND:20220309T100000Z
DCREATED:20220309T181641Z
UID:Compromisso-1c6d12934cb34c8783c09574153ad9aa
SEQUENCE:0
LAST-MODIFIED:20220309T181642Z
SUMMARY:Despachos Internos
LOCATION:Reitoria
PRIORITY:3
TRANSP:0
END:VEVENT
END:VCALENDAR
