BEGIN:VCALENDAR
PRODID:brasil.gov.agenda
VERSION:1.0
BEGIN:VEVENT
DTSTART:20220309T100000Z
DTEND:20220309T103000Z
DCREATED:20220309T181709Z
UID:Compromisso-bb190ae93f3340e59ffa54595183983a
SEQUENCE:0
LAST-MODIFIED:20220309T181709Z
SUMMARY:Colação de Grau Antecipada Fisioterapia
LOCATION:Reitoria
PRIORITY:3
TRANSP:0
END:VEVENT
END:VCALENDAR
