BEGIN:VCALENDAR
PRODID:brasil.gov.agenda
VERSION:1.0
BEGIN:VEVENT
DTSTART:20220309T140000Z
DTEND:20220309T180000Z
DCREATED:20220309T181734Z
UID:Compromisso-94a445018ee84385ac220b1fc9f5e91f
SEQUENCE:0
LAST-MODIFIED:20220309T181734Z
SUMMARY:178ª reunião sendo a 47ª sessão em caráter extraordinário do CONSEPE
LOCATION:Reitoria
PRIORITY:3
TRANSP:0
END:VEVENT
END:VCALENDAR
