BEGIN:VCALENDAR
PRODID:brasil.gov.agenda
VERSION:1.0
BEGIN:VEVENT
DTSTART:20220308T080000Z
DTEND:20220308T120000Z
DCREATED:20220309T181517Z
UID:Compromisso-cbf1121bff0b4f26a64755b8f8e51ebb
SEQUENCE:0
LAST-MODIFIED:20220309T181517Z
SUMMARY:Despachos Internos
LOCATION:Reitoria
PRIORITY:3
TRANSP:0
END:VEVENT
END:VCALENDAR
