BEGIN:VCALENDAR
PRODID:brasil.gov.agenda
VERSION:1.0
BEGIN:VEVENT
DTSTART:20220308T140000Z
DTEND:20220308T180000Z
DCREATED:20220309T181539Z
UID:Compromisso-a5131e4173f047379208be8db3cd6ac1
SEQUENCE:0
LAST-MODIFIED:20220309T181539Z
SUMMARY:Despachos Internos
LOCATION:Reitoria
PRIORITY:3
TRANSP:0
END:VEVENT
END:VCALENDAR
