BEGIN:VCALENDAR
PRODID:brasil.gov.agenda
VERSION:1.0
BEGIN:VEVENT
DTSTART:20220307T153000Z
DTEND:20220307T180000Z
DCREATED:20220309T181411Z
UID:Compromisso-e106c66b97254a9ca560d7290acd828e
SEQUENCE:0
LAST-MODIFIED:20220309T181411Z
SUMMARY:Despachos Internos
LOCATION:Reitoria
PRIORITY:3
TRANSP:0
END:VEVENT
END:VCALENDAR
