BEGIN:VCALENDAR
PRODID:brasil.gov.agenda
VERSION:1.0
BEGIN:VEVENT
DTSTART:20220307T083000Z
DTEND:20220307T093000Z
DCREATED:20220309T181110Z
UID:Compromisso-bfcf9dfd497c495186841e18d7700c71
SEQUENCE:0
LAST-MODIFIED:20220309T181110Z
SUMMARY:Colação de Grau - Pedagogia
LOCATION:Reitoria
PRIORITY:3
TRANSP:0
END:VEVENT
END:VCALENDAR
