BEGIN:VCALENDAR
PRODID:brasil.gov.agenda
VERSION:1.0
BEGIN:VEVENT
DTSTART:20220303T090000Z
DTEND:20220303T120000Z
DCREATED:20220304T114742Z
UID:Compromisso-4ff3d9edda9b48c59dcbea9475628b36
SEQUENCE:0
LAST-MODIFIED:20220304T114742Z
SUMMARY:Despachos Internos
LOCATION:Reitoria
PRIORITY:3
TRANSP:0
END:VEVENT
END:VCALENDAR
