BEGIN:VCALENDAR
PRODID:brasil.gov.agenda
VERSION:1.0
BEGIN:VEVENT
DTSTART:20220303T140000Z
DTEND:20220303T180000Z
DCREATED:20220304T114758Z
UID:Compromisso-c620876b42c643b28ef99f38a8f4f27c
SEQUENCE:0
LAST-MODIFIED:20220622T142948Z
SUMMARY:268 ª reunião em caráter extraordinário do CONCUR
LOCATION:Reitoria
PRIORITY:3
TRANSP:0
END:VEVENT
END:VCALENDAR
