BEGIN:VCALENDAR
PRODID:brasil.gov.agenda
VERSION:1.0
BEGIN:VEVENT
DTSTART:20220303T083000Z
DTEND:20220303T090000Z
DCREATED:20220304T114704Z
UID:Compromisso-8d5859dc8e584cc9b0943039cce61440
SEQUENCE:0
LAST-MODIFIED:20220304T114704Z
SUMMARY:Colação de grau ONLINE Antecipada Ciências Biológicas
LOCATION:Reitoria
PRIORITY:3
TRANSP:0
END:VEVENT
END:VCALENDAR
