BEGIN:VCALENDAR
PRODID:brasil.gov.agenda
VERSION:1.0
BEGIN:VEVENT
DTSTART:20220222T140000Z
DTEND:20220222T180000Z
DCREATED:20220304T113741Z
UID:Compromisso-345c2a74351547afbebca3cb9321c38b
SEQUENCE:0
LAST-MODIFIED:20220304T113741Z
SUMMARY:Despachos Internos
LOCATION:Reitoria
PRIORITY:3
TRANSP:0
END:VEVENT
END:VCALENDAR
