BEGIN:VCALENDAR
PRODID:brasil.gov.agenda
VERSION:1.0
BEGIN:VEVENT
DTSTART:20220217T083000Z
DTEND:20220217T093000Z
DCREATED:20220217T134324Z
UID:Compromisso-bb91355359184f0da8afee14c5dfdf66
SEQUENCE:0
LAST-MODIFIED:20220217T134324Z
SUMMARY:Reunião Secretária dos Conselhos
DESCRIPTION:Definição de Pauta CONSEPE
LOCATION:Reitoria
PRIORITY:3
TRANSP:0
END:VEVENT
END:VCALENDAR
