BEGIN:VCALENDAR
PRODID:brasil.gov.agenda
VERSION:1.0
BEGIN:VEVENT
DTSTART:20220217T093000Z
DTEND:20220217T120000Z
DCREATED:20220217T134345Z
UID:Compromisso-402f9817b0a34f75a9c4c6aa83e43482
SEQUENCE:0
LAST-MODIFIED:20220217T134345Z
SUMMARY:Despachos Internos
LOCATION:Reitoria
PRIORITY:3
TRANSP:0
END:VEVENT
END:VCALENDAR
