BEGIN:VCALENDAR
PRODID:brasil.gov.agenda
VERSION:1.0
BEGIN:VEVENT
DTSTART:20220216T080000Z
DTEND:20220216T120000Z
DCREATED:20220217T134143Z
UID:Compromisso-5e9469a4ae664ea599fd8714306b6ff9
SEQUENCE:0
LAST-MODIFIED:20220217T134143Z
SUMMARY:Despachos Internos
LOCATION:Reitoria
PRIORITY:3
TRANSP:0
END:VEVENT
END:VCALENDAR
